BEGIN:VCALENDAR
VERSION:2.0
PRODID:-//eventon.com NONSGML v1.0//EN
BEGIN:VEVENT
UID:69e4e60eecce2
DTSTAMP:20260419T162622
DTSTART:20220402T180000Z
DTEND:20220402T210000Z
TZID:Europe/Madrid
LOCATION:S.I. Catedral Plaza de Santa María\,  s/n\,  23002 Jaén
SUMMARY:Solemne Via Crucis con el Stmo. Cristo de la Buena Muerte
DESCRIPTION: Solemne Via Crucis con el Stmo. Cristo de la Buena Muerte
URL:https://pasionenjaen.com/events/solemne-via-crucis-con-el-stmo-cristo-de-la-buena-muerte/
END:VEVENT
END:VCALENDAR