BEGIN:VCALENDAR
VERSION:2.0
PRODID:-//eventon.com NONSGML v1.0//EN
BEGIN:VEVENT
UID:69e4e6afa1bb9
DTSTAMP:20260419T162903
DTSTART:20220326T210000Z
DTEND:20220326T224500Z
TZID:Europe/Madrid
LOCATION:Iglesia de la Merced Plaza la Merced\,  2\,  23002 Jaén
SUMMARY:Vía Crucis con Jesús Divino Maestro
DESCRIPTION: Traslado desde la Iglesia de la Merced hasta el colegio Divino Maestro
URL:https://pasionenjaen.com/events/via-crucis-con-jesus-divino-maestro/
END:VEVENT
END:VCALENDAR