BEGIN:VCALENDAR
VERSION:2.0
PRODID:-//eventon.com NONSGML v1.0//EN
BEGIN:VEVENT
UID:69e4fe3f06244
DTSTAMP:20260419T180935
DTSTART:20220327T153000Z
DTEND:20220327T190000Z
TZID:Europe/Madrid
LOCATION:Casa de Hermandad de la Estrella Calle Pilar de la Imprenta\,  Jaén
SUMMARY:Elecciones en la Hermandad de la Estrella
DESCRIPTION: Elecciones en la Hermandad de la Estrella
URL:https://pasionenjaen.com/events/elecciones-en-la-hermandad-de-la-estrella-2/
END:VEVENT
END:VCALENDAR