BEGIN:VCALENDAR
VERSION:2.0
PRODID:-//eventon.com NONSGML v1.0//EN
BEGIN:VEVENT
UID:69e51947e1cc0
DTSTAMP:20260419T200455
DTSTART:20220327T100000Z
DTEND:20220327T190000Z
TZID:Europe/Madrid
LOCATION:Iglesia Conventual de la Purísima Concepción Calle Pilar de la Imprenta\,  Jaén
SUMMARY:Veneración a Nuestro Padre Jesús de la Piedad y a María Santísima de la Estrella
DESCRIPTION: El próximo domingo\,  27 de marzo de 2022\,  tendrá lugar en la Iglesia Conventual de la Purísima Concepción la Veneración a María Santísima de la Estrella y a Ntro. Padre Jesús de la Piedad con el siguiente horario: De 12:00 a 21:00 horas
URL:https://pasionenjaen.com/events/veneracion-a-nuestro-padre-jesus-de-la-piedad-y-a-maria-santisima-de-la-estrella/
END:VEVENT
END:VCALENDAR