BEGIN:VCALENDAR
VERSION:2.0
PRODID:-//eventon.com NONSGML v1.0//EN
BEGIN:VEVENT
UID:69e5734a1188a
DTSTAMP:20260420T022858
DTSTART:20220325T180000Z
DTEND:20220325T190000Z
TZID:Europe/Madrid
LOCATION:Basílica Menor de San Ildefonso Plaza de San Ildefonso\,  Jaén
SUMMARY:Triduo en honor al Stmo. Cristo de la Vera Cruz y María Stma. de los Dolores – Dia 1
DESCRIPTION: Predicador: M.I. Sr Don Carmelo Zamora Expósito.
URL:https://pasionenjaen.com/events/triduo-en-honor-al-stmo-cristo-de-la-vera-cruz-y-maria-stma-de-los-dolores-dia-1/
END:VEVENT
END:VCALENDAR