BEGIN:VCALENDAR
VERSION:2.0
PRODID:-//eventon.com NONSGML v1.0//EN
BEGIN:VEVENT
UID:69e5745e328f5
DTSTAMP:20260420T023334
DTSTART:20220326T190000Z
DTEND:20220326T200000Z
TZID:Europe/Madrid
LOCATION:Salón Mudéjar Calle Maestra\,  18-20\,  23002 Jaén
SUMMARY:XXX Pregón del Estudiante
DESCRIPTION: Pregonero: Don Juan Carlos Moreno Montoro.
URL:https://pasionenjaen.com/events/xxx-pregon-del-estudiante/
END:VEVENT
END:VCALENDAR