BEGIN:VCALENDAR
VERSION:2.0
PRODID:-//eventon.com NONSGML v1.0//EN
BEGIN:VEVENT
UID:69e58b068dc43
DTSTAMP:20260420T041014
DTSTART:20220327T180000Z
DTEND:20220327T200000Z
TZID:Europe/Madrid
LOCATION:Agrupación de Cofradías Calle Bernardo López 6\,  Jaén
SUMMARY:Presentación Cartel "Juventud del Viernes Santo 2022"
DESCRIPTION: A cargo de D. Carlos Plaza Díaz
URL:https://pasionenjaen.com/events/presentacion-cartel-juventud-del-viernes-santo-2022/
END:VEVENT
END:VCALENDAR