BEGIN:VCALENDAR
VERSION:2.0
PRODID:-//eventon.com NONSGML v1.0//EN
BEGIN:VEVENT
UID:69e5ba419666a
DTSTAMP:20260420T073145
DTSTART:20220401T170000Z
DTEND:20220401T180000Z
TZID:Europe/Madrid
LOCATION:Santuario Camarín de Jesús Calle Carrera de Jesús\,  33\,  Jaén
SUMMARY:Novena a Nuestro Padre Jesús Nazareno – Dia 8
DESCRIPTION: Predicador: Rvdmo. Sr. don Sebastián Chico Martínez\,  Obispo de Jaén.
URL:https://pasionenjaen.com/events/novena-a-nuestro-padre-jesus-nazareno-dia-8-5/
END:VEVENT
END:VCALENDAR