BEGIN:VCALENDAR
VERSION:2.0
PRODID:-//eventon.com NONSGML v1.0//EN
BEGIN:VEVENT
UID:69e5d47fa07dc
DTSTAMP:20260420T092343
DTSTART:20220331T170000Z
DTEND:20220331T180000Z
TZID:Europe/Madrid
LOCATION:Santuario Camarín de Jesús Calle Carrera de Jesús\,  33\,  Jaén
SUMMARY:Novena a Nuestro Padre Jesús Nazareno – Dia 7
DESCRIPTION: Predicador: P. Fray Francisco Javier de María (O.C.D.)
URL:https://pasionenjaen.com/events/novena-a-nuestro-padre-jesus-nazareno-dia-7-5/
END:VEVENT
END:VCALENDAR