BEGIN:VCALENDAR
VERSION:2.0
PRODID:-//eventon.com NONSGML v1.0//EN
BEGIN:VEVENT
UID:69e8b6b5c1d8e
DTSTAMP:20260422T135325
DTSTART:20220328T170000Z
DTEND:20220328T180000Z
TZID:Europe/Madrid
LOCATION:Santuario Camarín de Jesús Calle Carrera de Jesús\,  33\,  Jaén
SUMMARY:Novena a Nuestro Padre Jesús Nazareno – Dia 4
DESCRIPTION: Predicador: P. Fray Francisco Javier de María (O.C.D.)
URL:https://pasionenjaen.com/events/novena-a-nuestro-padre-jesus-nazareno-dia-4-5/
END:VEVENT
END:VCALENDAR