BEGIN:VCALENDAR
VERSION:2.0
PRODID:-//eventon.com NONSGML v1.0//EN
BEGIN:VEVENT
UID:69e8e2258da94
DTSTAMP:20260422T165845
DTSTART:20220326T180000Z
DTEND:20220326T190000Z
TZID:Europe/Madrid
LOCATION:Santuario Camarín de Jesús Calle Carrera de Jesús\,  33\,  Jaén
SUMMARY:Novena a Nuestro Padre Jesús Nazareno – Dia 2
DESCRIPTION: Predicador: P. Fray Francisco Javier de María (O.C.D.)
URL:https://pasionenjaen.com/events/novena-a-nuestro-padre-jesus-nazareno-dia-2-4/
END:VEVENT
END:VCALENDAR