BEGIN:VCALENDAR
VERSION:2.0
PRODID:-//eventon.com NONSGML v1.0//EN
BEGIN:VEVENT
UID:69e92a95ba024
DTSTAMP:20260422T220749
DTSTART:20220322T080000Z
DTEND:20220322T190000Z
TZID:Europe/Madrid
LOCATION:Santuario Camarín de Jesús Calle Carrera de Jesús\,  33\,  Jaén
SUMMARY:Veneración a María Stma. de los Dolores - Dia 1
DESCRIPTION: En horario de 9 a 13 horas y de 17:30 a 20 horas
URL:https://pasionenjaen.com/events/veneracion-a-maria-stma-de-los-dolores-dia-1/
END:VEVENT
END:VCALENDAR