BEGIN:VCALENDAR
VERSION:2.0
PRODID:-//eventon.com NONSGML v1.0//EN
BEGIN:VEVENT
UID:69e94382604ff
DTSTAMP:20260422T235410
DTSTART:20220325T183000Z
DTEND:20220325T200000Z
TZID:Europe/Madrid
LOCATION:Parroquia de San Eufrasio Plaza San Félix\,  1\,  Jaén
SUMMARY:Misa en honor a María Stma. de la Encarnación
DESCRIPTION: Misa en honor a María Stma. de la Encarnación
URL:https://pasionenjaen.com/events/misa-en-honor-a-maria-stma-de-la-encarnacion/
END:VEVENT
END:VCALENDAR