BEGIN:VCALENDAR
VERSION:2.0
PRODID:-//eventon.com NONSGML v1.0//EN
BEGIN:VEVENT
UID:69e95e0cbc9a4
DTSTAMP:20260423T014724
DTSTART:20220326T093000Z
DTEND:20220326T180000Z
TZID:Europe/Madrid
LOCATION:Parroquia de San Eufrasio Plaza San Félix\,  1\,  Jaén
SUMMARY:Veneración a María Stma. de la Encarnación
DESCRIPTION: En horario de 10:30 a 14 horas y de 16:30 a 19 horas
URL:https://pasionenjaen.com/events/veneracion-a-maria-stma-de-la-encarnacion/
END:VEVENT
END:VCALENDAR