BEGIN:VCALENDAR
VERSION:2.0
PRODID:-//eventon.com NONSGML v1.0//EN
BEGIN:VEVENT
UID:69e9782289661
DTSTAMP:20260423T033842
DTSTART:20220401T191500Z
DTEND:20220401T210000Z
TZID:Europe/Madrid
LOCATION:Agrupación de Cofradías Calle Bernardo López 6\,  Jaén
SUMMARY:XXVI Pregón Soledad
DESCRIPTION: Pregonero: D. Manuel Palomares Herrera Presentador: D. Juan Aranda Moreno
URL:https://pasionenjaen.com/events/xxvi-pregon-soledad/
END:VEVENT
END:VCALENDAR