BEGIN:VCALENDAR
VERSION:2.0
PRODID:-//eventon.com NONSGML v1.0//EN
BEGIN:VEVENT
UID:69e9944c9c1bc
DTSTAMP:20260423T053852
DTSTART:20220329T183000Z
DTEND:20220329T200000Z
TZID:Europe/Madrid
LOCATION:Agrupación de Cofradías Calle Bernardo López 6\,  Jaén
SUMMARY:Presentación VI Boletín Hora Nona
DESCRIPTION: A cargo de D. Tomás Díaz Hoyofrío.
URL:https://pasionenjaen.com/events/presentacion-vi-boletin-hora-nona/
END:VEVENT
END:VCALENDAR