BEGIN:VCALENDAR
VERSION:2.0
PRODID:-//eventon.com NONSGML v1.0//EN
BEGIN:VEVENT
UID:69e9a9c4bef6d
DTSTAMP:20260423T071028
DTSTART:20220327T110000Z
DTEND:20220327T120000Z
TZID:Europe/Madrid
LOCATION:S.I. Catedral Plaza de Santa María\,  s/n\,  23002 Jaén
SUMMARY:Triduo en honor al Stmo. Cristo de la Buena Muerte – Dia 3
DESCRIPTION: Predicador: M.I.Sr. D. Manuel Carmona García
URL:https://pasionenjaen.com/events/triduo-en-honor-al-stmo-cristo-de-la-buena-muerte-dia-3/
END:VEVENT
END:VCALENDAR