BEGIN:VCALENDAR
VERSION:2.0
PRODID:-//eventon.com NONSGML v1.0//EN
BEGIN:VEVENT
UID:69e9d1c1207af
DTSTAMP:20260423T100105
DTSTART:20220326T190000Z
DTEND:20220326T200000Z
TZID:Europe/Madrid
LOCATION:S.I. Catedral Plaza de Santa María\,  s/n\,  23002 Jaén
SUMMARY:Triduo en honor al Stmo. Cristo de la Buena Muerte – Dia 2
DESCRIPTION: Predicador: M.I.Sr. D. Manuel Carmona García
URL:https://pasionenjaen.com/events/triduo-en-honor-al-stmo-cristo-de-la-buena-muerte-dia-2/
END:VEVENT
END:VCALENDAR