BEGIN:VCALENDAR
VERSION:2.0
PRODID:-//eventon.com NONSGML v1.0//EN
BEGIN:VEVENT
UID:69e9d7327539b
DTSTAMP:20260423T102418
DTSTART:20220325T190000Z
DTEND:20220325T201500Z
TZID:Europe/Madrid
LOCATION:S.I. Catedral Plaza de Santa María\,  s/n\,  23002 Jaén
SUMMARY:Triduo en honor al Stmo. Cristo de la Buena Muerte – Dia 1
DESCRIPTION: Predicador: M.I.Sr. D. Manuel Carmona García
URL:https://pasionenjaen.com/events/triduo-en-honor-al-stmo-cristo-de-la-buena-muerte-dia-1/
END:VEVENT
END:VCALENDAR