BEGIN:VCALENDAR
VERSION:2.0
PRODID:-//eventon.com NONSGML v1.0//EN
BEGIN:VEVENT
UID:69ea045bbe558
DTSTAMP:20260423T133659
DTSTART:20220420T190000Z
DTEND:20220420T210000Z
TZID:Europe/Madrid
LOCATION:Iglesia de la Merced Plaza la Merced\,  2\,  23002 Jaén
SUMMARY:Igualá de costaleros de Nuestra Señora de la Cabeza
DESCRIPTION: Igualá de costaleros de Nuestra Señora de la Cabeza
URL:https://pasionenjaen.com/events/iguala-de-costaleros-de-nuestra-senora-de-la-cabeza/
END:VEVENT
END:VCALENDAR