BEGIN:VCALENDAR
VERSION:2.0
PRODID:-//eventon.com NONSGML v1.0//EN
BEGIN:VEVENT
UID:69ea03fda60c5
DTSTAMP:20260423T133525
DTSTART:20220326T190000Z
DTEND:20220326T210000Z
TZID:Europe/Madrid
LOCATION:Iglesia de la Merced Plaza la Merced\,  2\,  23002 Jaén
SUMMARY:Triduo en honor a Jesús Divino Maestro – Dia 3
DESCRIPTION: Predicador: Rvdo. Sr. D. Juan Jesús Cañete Olmedo. A la finalización la imagen volverá al Colegio Divino Maestro en solemne vía crucis.
URL:https://pasionenjaen.com/events/triduo-en-honor-a-jesus-divino-maestro-dia-3/
END:VEVENT
END:VCALENDAR