BEGIN:VCALENDAR
VERSION:2.0
PRODID:-//eventon.com NONSGML v1.0//EN
BEGIN:VEVENT
UID:69ea1803880c9
DTSTAMP:20260423T150051
DTSTART:20220325T183000Z
DTEND:20220325T200000Z
TZID:Europe/Madrid
LOCATION:Iglesia de la Merced Plaza la Merced\,  2\,  23002 Jaén
SUMMARY:Triduo en honor a Jesús Divino Maestro – Dia 2
DESCRIPTION: Predicador: Rvdo. Sr. D. Juan Jesús Cañete Olmedo.
URL:https://pasionenjaen.com/events/triduo-en-honor-a-jesus-divino-maestro-dia-2/
END:VEVENT
END:VCALENDAR