BEGIN:VCALENDAR
VERSION:2.0
PRODID:-//eventon.com NONSGML v1.0//EN
BEGIN:VEVENT
UID:69ea3275f0008
DTSTAMP:20260423T165341
DTSTART:20220324T183000Z
DTEND:20220324T200000Z
TZID:Europe/Madrid
LOCATION:Iglesia de la Merced Plaza la Merced\,  2\,  23002 Jaén
SUMMARY:Triduo en honor a Jesús Divino Maestro – Dia 1
DESCRIPTION: Predicador: Rvdo. Sr. D. Juan Jesús Cañete Olmedo.
URL:https://pasionenjaen.com/events/triduo-en-honor-a-jesus-divino-maestro-dia-1/
END:VEVENT
END:VCALENDAR