BEGIN:VCALENDAR
VERSION:2.0
PRODID:-//eventon.com NONSGML v1.0//EN
BEGIN:VEVENT
UID:69ea4b8baf4dc
DTSTAMP:20260423T184043
DTSTART:20220327T110000Z
DTEND:20220327T205000Z
TZID:Europe/Madrid
LOCATION:Colegio de los Hermanos Maristas Avenida Ruiz Jiménez\,  1\,  Jaén
SUMMARY:XXXVII Pregón Hosanna
DESCRIPTION: Pregonero: D. Jesús Colmenero Martínez. Presentador: D. Manuel Jesús Ruiz Barragán
URL:https://pasionenjaen.com/events/xxxvii-pregon-hosanna/
END:VEVENT
END:VCALENDAR