BEGIN:VCALENDAR
VERSION:2.0
PRODID:-//eventon.com NONSGML v1.0//EN
BEGIN:VEVENT
UID:69ea61db84414
DTSTAMP:20260423T201555
DTSTART:20220327T070000Z
DTEND:20220327T190000Z
TZID:Europe/Madrid
LOCATION:Parroquia de Cristo Rey Cristo Rey 2\,  Jaén
SUMMARY:Veneración a Jesús del Perdón
DESCRIPTION: En horario de 9:30 a 19:30 horas (excepto en las horas de Misa) así como a la finalización del Triduo.
URL:https://pasionenjaen.com/events/veneracion-a-jesus-del-perdon-2/
END:VEVENT
END:VCALENDAR