BEGIN:VCALENDAR
VERSION:2.0
PRODID:-//eventon.com NONSGML v1.0//EN
BEGIN:VEVENT
UID:69ea79b389882
DTSTAMP:20260423T215739
DTSTART:20220327T173000Z
DTEND:20220327T190000Z
TZID:Europe/Madrid
LOCATION:Parroquia de Cristo Rey Cristo Rey 2\,  Jaén
SUMMARY:Triduo en honor a Jesús del Perdón – Dia 3
DESCRIPTION: Predicador: Rvdo. Sr Don Juan Ignacio Damas López.
URL:https://pasionenjaen.com/events/triduo-en-honor-a-jesus-del-perdon-dia-3/
END:VEVENT
END:VCALENDAR