BEGIN:VCALENDAR
VERSION:2.0
PRODID:-//eventon.com NONSGML v1.0//EN
BEGIN:VEVENT
UID:69ea911d91d26
DTSTAMP:20260423T233733
DTSTART:20220326T173000Z
DTEND:20220326T190000Z
TZID:Europe/Madrid
LOCATION:Parroquia de Cristo Rey Cristo Rey 2\,  Jaén
SUMMARY:Triduo en honor a Jesús del Perdón – Dia 2
DESCRIPTION: Predicador: Rvdo. Sr Don Juan Ignacio Damas López
URL:https://pasionenjaen.com/events/triduo-en-honor-a-jesus-del-perdon-dia-2/
END:VEVENT
END:VCALENDAR