BEGIN:VCALENDAR
VERSION:2.0
PRODID:-//eventon.com NONSGML v1.0//EN
BEGIN:VEVENT
UID:69eab9351f2fd
DTSTAMP:20260424T022837
DTSTART:20220326T080000Z
DTEND:20220326T190000Z
TZID:Europe/Madrid
LOCATION:Parroquia de Belén y San Roque Plaza Virgen de la Paz\,  s/n\,  Jaén
SUMMARY:Veneración a Ntro. Padre Jesús de la Salud
DESCRIPTION: En horario de 9 a 13 horas y de 17:30 a 19 horas\,  así como a la finalización del triduo.
URL:https://pasionenjaen.com/events/veneracion-a-ntro-padre-jesus-de-la-salud/
END:VEVENT
END:VCALENDAR