BEGIN:VCALENDAR
VERSION:2.0
PRODID:-//eventon.com NONSGML v1.0//EN
BEGIN:VEVENT
UID:69eacc5deae29
DTSTAMP:20260424T035021
DTSTART:20220326T180000Z
DTEND:20220326T190000Z
TZID:Europe/Madrid
LOCATION:Parroquia de Belén y San Roque Plaza Virgen de la Paz\,  s/n\,  Jaén
SUMMARY:Triduo en honor a Nuestro Padre Jesús de la Salud – Dia 3
DESCRIPTION: Predicador: Rvdo. Sr. D. Francisco J. Martínez Rojas.
URL:https://pasionenjaen.com/events/triduo-en-honor-a-nuestro-padre-jesus-de-la-salud-dia-3-2/
END:VEVENT
END:VCALENDAR