BEGIN:VCALENDAR
VERSION:2.0
PRODID:-//eventon.com NONSGML v1.0//EN
BEGIN:VEVENT
UID:69eaf67185c1c
DTSTAMP:20260424T064953
DTSTART:20220324T180000Z
DTEND:20220324T190000Z
TZID:Europe/Madrid
LOCATION:Parroquia de Belén y San Roque Plaza Virgen de la Paz\,  s/n\,  Jaén
SUMMARY:Triduo en honor a Nuestro Padre Jesús de la Salud – Dia 1
DESCRIPTION: Predicador: Rvdo. Sr. D. Francisco J. Martínez Rojas.
URL:https://pasionenjaen.com/events/triduo-en-honor-a-nuestro-padre-jesus-de-la-salud-dia-1-2/
END:VEVENT
END:VCALENDAR