BEGIN:VCALENDAR
VERSION:2.0
PRODID:-//eventon.com NONSGML v1.0//EN
BEGIN:VEVENT
UID:69eb0b1f42acc
DTSTAMP:20260424T081807
DTSTART:20220319T100000Z
DTEND:20220321T200000Z
TZID:Europe/Madrid
LOCATION:Real Sociedad Económica de Amigos del País Calle Bernabé Soriano 29\,  Jaén
SUMMARY:Exposición fotográfica "La legión. 100 años- 100 imágenes"
DESCRIPTION: Podrá visitarse los días 19\, 20 y 21 de marzo en la Sala de Exposiciones de la Real Sociedad de Amigos del Pais de Jaén\,  entrada por la Plaza Deán Mazas. Horario: Mañanas de 11 a 14 horas (sábado\,  domingo y lunes) Tardes de 18 a 21 horas (sábado y domingo).
URL:https://pasionenjaen.com/events/exposicion-fotografica-la-legion-100-anos-100-imagenes/
END:VEVENT
END:VCALENDAR