BEGIN:VCALENDAR
VERSION:2.0
PRODID:-//eventon.com NONSGML v1.0//EN
BEGIN:VEVENT
UID:69eb223f34140
DTSTAMP:20260424T095647
DTSTART:20220318T200000Z
DTEND:20220318T200000Z
TZID:Europe/Madrid
LOCATION:Iglesia de la Merced Plaza la Merced\,  2\,  23002 Jaén
SUMMARY:Vela al Stmo. Cristo de las Misericordias.
DESCRIPTION: Vela al Stmo. Cristo de las Misericordias.
URL:https://pasionenjaen.com/events/vela-al-stmo-cristo-de-las-misericordias-3/
END:VEVENT
END:VCALENDAR