BEGIN:VCALENDAR
VERSION:2.0
PRODID:-//eventon.com NONSGML v1.0//EN
BEGIN:VEVENT
UID:69eb38e037301
DTSTAMP:20260424T113320
DTSTART:20220320T110000Z
DTEND:20220320T120000Z
TZID:Europe/Madrid
LOCATION:Agrupación de Cofradías Calle Bernardo López 6\,  Jaén
SUMMARY:X Pregón Amargura
DESCRIPTION: Pregonero: D. Ángel Ruiz
URL:https://pasionenjaen.com/events/x-pregon-amargura/
END:VEVENT
END:VCALENDAR