BEGIN:VCALENDAR
VERSION:2.0
PRODID:-//eventon.com NONSGML v1.0//EN
BEGIN:VEVENT
UID:69eb4dff627c6
DTSTAMP:20260424T130327
DTSTART:20220319T183000Z
DTEND:20220319T200000Z
TZID:Europe/Madrid
LOCATION:Parroquia de Belén y San Roque Plaza Virgen de la Paz\,  s/n\,  Jaén
SUMMARY:Eucaristía XX Aniversario de bendición de Ntro. Padre Jesús de la Salud.
DESCRIPTION: Eucaristía XX Aniversario de bendición de Ntro. Padre Jesús de la Salud.
URL:https://pasionenjaen.com/events/eucaristia-xx-aniversario-de-bendicion-de-ntro-padre-jesus-de-la-salud/
END:VEVENT
END:VCALENDAR