BEGIN:VCALENDAR
VERSION:2.0
PRODID:-//eventon.com NONSGML v1.0//EN
BEGIN:VEVENT
UID:69eb620ba47c4
DTSTAMP:20260424T142859
DTSTART:20220319T193000Z
DTEND:20220319T210000Z
TZID:Europe/Madrid
LOCATION:Colegio Sagrado Corazón de Jesús Dirección: Calle de la Virgen de la Inmaculada\,  2\,  23005 Jaén
SUMMARY:V Pregón Cautivo y Trinidad
DESCRIPTION: Pregonero: D. Javier León Cruz
URL:https://pasionenjaen.com/events/v-pregon-cautivo-y-trinidad-2/
END:VEVENT
END:VCALENDAR