BEGIN:VCALENDAR
VERSION:2.0
PRODID:-//eventon.com NONSGML v1.0//EN
BEGIN:VEVENT
UID:69eb76f86139f
DTSTAMP:20260424T155816
DTSTART:20220408T150000Z
DTEND:20220408T200000Z
TZID:Europe/Madrid
LOCATION:Salón de actos de la parroquia de Cristo Rey Cristo Rey\, 2
SUMMARY:Elecciones en la Hermandad del Perdón
DESCRIPTION: En horario de 17 a 22 horas
URL:https://pasionenjaen.com/events/elecciones-en-la-hermandad-del-perdon-2/
END:VEVENT
END:VCALENDAR