BEGIN:VCALENDAR
VERSION:2.0
PRODID:-//eventon.com NONSGML v1.0//EN
BEGIN:VEVENT
UID:69eb8ffb6b919
DTSTAMP:20260424T174459
DTSTART:20220320T113000Z
DTEND:20220320T180000Z
TZID:Europe/Madrid
LOCATION:Parroquia de la Inmaculada y San Pedro Pascual Ctra de Jabalcuz\,  2\,  23160 Jaén
SUMMARY:Veneración al Stmo. Cristo de las Aguas en su Sagrada Lanzada
DESCRIPTION: En horario de 12:30 a 14 horas y de 17:30 a 19 horas. Horario de fotografías: de 16:30 a 17:30 horas
URL:https://pasionenjaen.com/events/veneracion-al-stmo-cristo-de-las-aguas-en-su-sagrada-lanzada/
END:VEVENT
END:VCALENDAR