BEGIN:VCALENDAR
VERSION:2.0
PRODID:-//eventon.com NONSGML v1.0//EN
BEGIN:VEVENT
UID:69eba520cfbd5
DTSTAMP:20260424T191512
DTSTART:20220325T193000Z
DTEND:20220325T210000Z
TZID:Europe/Madrid
LOCATION:Seminario de Jaén Calle Juan Montilla\,  1 23002 Jaén
SUMMARY:XVI Pregón Santa Cena 2022
DESCRIPTION: A cargo de D. Jose Luis Martínez Cabeza Presentador: D. Jose Antonio Mingorance Benjumea
URL:https://pasionenjaen.com/events/xvi-pregon-santa-cena-2022/
END:VEVENT
END:VCALENDAR