BEGIN:VCALENDAR
VERSION:2.0
PRODID:-//eventon.com NONSGML v1.0//EN
BEGIN:VEVENT
UID:69ebb96182c88
DTSTAMP:20260424T204137
DTSTART:20220320T173000Z
DTEND:20220320T200000Z
TZID:Europe/Madrid
LOCATION:Santuario Camarín de Jesús Calle Carrera de Jesús\,  33\,  Jaén
SUMMARY:Concierto extraordinario: CLX Aniversario de la Concesión del Titulo Real
DESCRIPTION: El concierto tendrá lugar en la puerta del Camarín. Intervienen: B. M. Ntra. Sra. Amargura (Jaén) Banda Sinfónica Ciudad de Jaén
URL:https://pasionenjaen.com/events/concierto-extraordinario-clx-aniversario-de-la-concesion-del-titulo-real/
END:VEVENT
END:VCALENDAR