BEGIN:VCALENDAR
VERSION:2.0
PRODID:-//eventon.com NONSGML v1.0//EN
BEGIN:VEVENT
UID:69ebcf727375a
DTSTAMP:20260424T221546
DTSTART:20220320T080000Z
DTEND:20220320T190000Z
TZID:Europe/Madrid
LOCATION:Santuario Camarín de Jesús Calle Carrera de Jesús\,  33\,  Jaén
SUMMARY:Veneración a Nuestro Padre Jesús Nazareno – Dia 4
DESCRIPTION: En horario de 9 a 13 horas y de 17:30 a 20 horas
URL:https://pasionenjaen.com/events/veneracion-a-nuestro-padre-jesus-nazareno-dia-4/
END:VEVENT
END:VCALENDAR