BEGIN:VCALENDAR
VERSION:2.0
PRODID:-//eventon.com NONSGML v1.0//EN
BEGIN:VEVENT
UID:69ebe67859e99
DTSTAMP:20260424T235400
DTSTART:20220319T080000Z
DTEND:20220319T220000Z
TZID:Europe/Madrid
LOCATION:Santuario Camarín de Jesús Calle Carrera de Jesús\,  33\,  Jaén
SUMMARY:Veneración a Nuestro Padre Jesús Nazareno – Dia 3
DESCRIPTION: En horario de 9 a 13 horas y de 17:30 a 23 horas
URL:https://pasionenjaen.com/events/veneracion-a-nuestro-padre-jesus-nazareno-dia-3/
END:VEVENT
END:VCALENDAR