BEGIN:VCALENDAR
VERSION:2.0
PRODID:-//eventon.com NONSGML v1.0//EN
BEGIN:VEVENT
UID:69ebfdd05de3e
DTSTAMP:20260425T013336
DTSTART:20220318T080000Z
DTEND:20220318T190000Z
TZID:Europe/Madrid
LOCATION:Santuario Camarín de Jesús Calle Carrera de Jesús\,  33\,  Jaén
SUMMARY:Veneración a Nuestro Padre Jesús Nazareno – Dia 2
DESCRIPTION: En horario de 9 a 13 horas y de 17:30 a 20 horas
URL:https://pasionenjaen.com/events/veneracion-a-nuestro-padre-jesus-nazareno-dia-2/
END:VEVENT
END:VCALENDAR