BEGIN:VCALENDAR
VERSION:2.0
PRODID:-//eventon.com NONSGML v1.0//EN
BEGIN:VEVENT
UID:69ec1542844f3
DTSTAMP:20260425T031338
DTSTART:20220317T080000Z
DTEND:20220317T190000Z
TZID:Europe/Madrid
LOCATION:Santuario Camarín de Jesús Calle Carrera de Jesús\,  33\,  Jaén
SUMMARY:Veneración a Nuestro Padre Jesús Nazareno – Dia 1
DESCRIPTION: En horario de 9 a 13 horas y de 17:30 a 20 horas.
URL:https://pasionenjaen.com/events/veneracion-a-nuestro-padre-jesus-nazareno-dia-1/
END:VEVENT
END:VCALENDAR