BEGIN:VCALENDAR
VERSION:2.0
PRODID:-//eventon.com NONSGML v1.0//EN
BEGIN:VEVENT
UID:69ec4105a03bf
DTSTAMP:20260425T062021
DTSTART:20220325T180000Z
DTEND:20220325T190000Z
TZID:Europe/Madrid
LOCATION:Parroquia de Santa María Magdalena Plaza de la Magdalena\,  s/n\,  Jaén
SUMMARY:Quinario de la Cofradía de la Clemencia – Dia 4
DESCRIPTION: Predicador: Ilmo. Sr. Don Juan Raya Marín\,  Consiliario de la cofradía y párroco de la Magdalena
URL:https://pasionenjaen.com/events/quinario-de-la-cofradia-de-la-clemencia-dia-4-3/
END:VEVENT
END:VCALENDAR