BEGIN:VCALENDAR
VERSION:2.0
PRODID:-//eventon.com NONSGML v1.0//EN
BEGIN:VEVENT
UID:69ecab345009f
DTSTAMP:20260425T135324
DTSTART:20220319T180000Z
DTEND:20220319T190000Z
TZID:Europe/Madrid
LOCATION:Parroquia de la Inmaculada y San Pedro Pascual Ctra de Jabalcuz\,  2\,  23160 Jaén
SUMMARY:Solemne bendición del Stmo. Cristo de las Aguas en su Sagrada Lanzada
DESCRIPTION: Solemne bendición del Stmo. Cristo de las Aguas en su Sagrada Lanzada
URL:https://pasionenjaen.com/events/solemne-bendicion-del-stmo-cristo-de-las-aguas-en-su-sagrada-lanzada/
END:VEVENT
END:VCALENDAR