BEGIN:VCALENDAR
VERSION:2.0
PRODID:-//eventon.com NONSGML v1.0//EN
BEGIN:VEVENT
UID:69ecae8b538cf
DTSTAMP:20260425T140739
DTSTART:20220316T180000Z
DTEND:20220316T210000Z
TZID:Europe/Madrid
LOCATION:Colegio de Procuradores de Jaén Calle Rey Alhamar\,  5\,  23004 Jaén
SUMMARY:Presentación Boletín Yacente y Soledad nº 23
DESCRIPTION: Presentador: D. Jesús María Pegalajar Cano. Y a la finalización charla &#8221; Heráldica en la Cofradía de la Soledad&#8221; a cargo de D. Andrés Nicás Moreno.
URL:https://pasionenjaen.com/events/presentacion-boletin-yacente-y-soledad-no-23/
END:VEVENT
END:VCALENDAR