BEGIN:VCALENDAR
VERSION:2.0
PRODID:-//eventon.com NONSGML v1.0//EN
BEGIN:VEVENT
UID:69ecc41208ce6
DTSTAMP:20260425T153930
DTSTART:20220313T110000Z
DTEND:20220313T130000Z
TZID:Europe/Madrid
LOCATION:Teatro Darymelia Calle Colón\,  6\,  Jaén
SUMMARY:Concierto benéfico de marchas procesionales "La Divina Pastora en Andalucía"
DESCRIPTION: A cargo de la B.M. María Santísima de la Esperanza de Córdoba
URL:https://pasionenjaen.com/events/concierto-benefico-de-marchas-procesionales-la-divina-pastora-en-andalucia/
END:VEVENT
END:VCALENDAR