BEGIN:VCALENDAR
VERSION:2.0
PRODID:-//eventon.com NONSGML v1.0//EN
BEGIN:VEVENT
UID:69ecdecc2451d
DTSTAMP:20260425T173332
DTSTART:20220312T190000Z
DTEND:20220312T200000Z
TZID:Europe/Madrid
LOCATION:Sala Capitular de la Santa Iglesia Catedral Catedral de Jaén\,  Plaza de Santa María\,  s/n\,  23002 Jaén
SUMMARY:Charla formativa: "Personajes de la Pasión"
DESCRIPTION: A cargo de D. Javier Pereda Pereda
URL:https://pasionenjaen.com/events/charla-formativa-personajes-de-la-pasion/
END:VEVENT
END:VCALENDAR