BEGIN:VCALENDAR
VERSION:2.0
PRODID:-//eventon.com NONSGML v1.0//EN
BEGIN:VEVENT
UID:69ecf2ae26a0c
DTSTAMP:20260425T185822
DTSTART:20220311T190000Z
DTEND:20220311T200000Z
TZID:Europe/Madrid
LOCATION:Salón parroquial de la Merced C. Merced Alta\,  15\,  23002 Jaén
SUMMARY:Conferencia "Aparición de la Santísima Virgen"
DESCRIPTION: Impartida por: Don Jose López Chica
URL:https://pasionenjaen.com/events/conferencia-aparicion-de-la-santisima-virgen/
END:VEVENT
END:VCALENDAR