BEGIN:VCALENDAR
VERSION:2.0
PRODID:-//eventon.com NONSGML v1.0//EN
BEGIN:VEVENT
UID:69ed0b325affe
DTSTAMP:20260425T204258
DTSTART:20220312T183000Z
DTEND:20220312T200000Z
TZID:Europe/Madrid
LOCATION:Iglesia de la Merced Plaza la Merced\,  2\,  23002 Jaén
SUMMARY:Sabatina en honor a la Santísima Virgen de la Cabeza
DESCRIPTION: Sabatina en honor a la Santísima Virgen de la Cabeza
URL:https://pasionenjaen.com/events/sabatina-en-honor-a-la-santisima-virgen-de-la-cabeza/
END:VEVENT
END:VCALENDAR